BEGIN:VCALENDAR
VERSION:2.0
PRODID:-//SWCCAC - ECPv6.0.12//NONSGML v1.0//EN
CALSCALE:GREGORIAN
METHOD:PUBLISH
X-WR-CALNAME:SWCCAC
X-ORIGINAL-URL:https://swccac.com
X-WR-CALDESC:Events for SWCCAC
REFRESH-INTERVAL;VALUE=DURATION:PT1H
X-Robots-Tag:noindex
X-PUBLISHED-TTL:PT1H
BEGIN:VTIMEZONE
TZID:America/New_York
BEGIN:DAYLIGHT
TZOFFSETFROM:-0500
TZOFFSETTO:-0400
TZNAME:EDT
DTSTART:20220313T070000
END:DAYLIGHT
BEGIN:STANDARD
TZOFFSETFROM:-0400
TZOFFSETTO:-0500
TZNAME:EST
DTSTART:20221106T060000
END:STANDARD
END:VTIMEZONE
BEGIN:VEVENT
DTSTART;TZID=America/New_York:20220314T173000
DTEND;TZID=America/New_York:20220314T193000
DTSTAMP:20260423T020927
CREATED:20220306T204448Z
LAST-MODIFIED:20220306T205005Z
UID:3308-1647279000-1647286200@swccac.com
SUMMARY:SWCCAC Member Meeting
DESCRIPTION:
URL:https://swccac.com/event/swccac-member-meeting/
LOCATION:Cape Coral City Library\, 921 SW 39th Terrace\, Cape Coral\, 33914\, United States
CATEGORIES:Member Meetings
END:VEVENT
END:VCALENDAR